BEGIN:VCALENDAR
VERSION:2.0
PRODID:-//Sagrada Lanzada - ECPv6.15.17.1//NONSGML v1.0//EN
CALSCALE:GREGORIAN
METHOD:PUBLISH
X-ORIGINAL-URL:https://lanzada.org
X-WR-CALDESC:Eventos para Sagrada Lanzada
REFRESH-INTERVAL;VALUE=DURATION:PT1H
X-Robots-Tag:noindex
X-PUBLISHED-TTL:PT1H
BEGIN:VTIMEZONE
TZID:UTC
BEGIN:STANDARD
TZOFFSETFROM:+0000
TZOFFSETTO:+0000
TZNAME:UTC
DTSTART:20230101T000000
END:STANDARD
END:VTIMEZONE
BEGIN:VEVENT
DTSTART;TZID=UTC:20240207T193000
DTEND;TZID=UTC:20240207T193000
DTSTAMP:20260421T080748
CREATED:20230905T124121Z
LAST-MODIFIED:20230905T124122Z
UID:6658-1707334200-1707334200@lanzada.org
SUMMARY:Misa de Hermandad y exposición del Santísimo
DESCRIPTION:Como cada primer miércoles de mes\, a las 19:30 horas habrá Exposición del Santísimo Sacramento ante nuestros Sagrados Titulares. A continuación\, a las 20:30 horas celebración de la Misa de Hermandad\, finalizando con la bendición y reserva.
URL:https://lanzada.org/evento/misa-de-hermandad-y-exposicion-del-santisimo-16/
LOCATION:Iglesia de San Martín\, Plaza de San Martín\, Sevilla\, Sevilla\, 41003\, España
CATEGORIES:Agenda,Misa de Miércoles
ATTACH;FMTTYPE=image/jpeg:https://lanzada.org/wp-content/uploads/2022/01/Santisimo.jpg
END:VEVENT
END:VCALENDAR