BEGIN:VCALENDAR
VERSION:2.0
PRODID:-//Sagrada Lanzada - ECPv6.15.17.1//NONSGML v1.0//EN
CALSCALE:GREGORIAN
METHOD:PUBLISH
X-WR-CALNAME:Sagrada Lanzada
X-ORIGINAL-URL:https://lanzada.org
X-WR-CALDESC:Eventos para Sagrada Lanzada
REFRESH-INTERVAL;VALUE=DURATION:PT1H
X-Robots-Tag:noindex
X-PUBLISHED-TTL:PT1H
BEGIN:VTIMEZONE
TZID:UTC
BEGIN:STANDARD
TZOFFSETFROM:+0000
TZOFFSETTO:+0000
TZNAME:UTC
DTSTART:20250101T000000
END:STANDARD
END:VTIMEZONE
BEGIN:VEVENT
DTSTART;TZID=UTC:20260422T000000
DTEND;TZID=UTC:20260422T235959
DTSTAMP:20260422T020145
CREATED:20260416T103759Z
LAST-MODIFIED:20260416T103914Z
UID:8403-1776816000-1776902399@lanzada.org
SUMMARY:Festivo local
DESCRIPTION:El miércoles 22 de abril de 2026 no se celebrará Misa de Hermandad por festivo local.
URL:https://lanzada.org/evento/festivo-local/
LOCATION:Iglesia de San Martín\, Plaza de San Martín\, Sevilla\, Sevilla\, 41003\, España
CATEGORIES:Agenda,Misa de Miércoles
ATTACH;FMTTYPE=image/jpeg:https://lanzada.org/wp-content/uploads/2026/04/San-Martin-plaza.jpg
END:VEVENT
END:VCALENDAR