BEGIN:VCALENDAR
VERSION:2.0
PRODID:-//Sagrada Lanzada - ECPv6.15.17.1//NONSGML v1.0//EN
CALSCALE:GREGORIAN
METHOD:PUBLISH
X-ORIGINAL-URL:https://lanzada.org
X-WR-CALDESC:Eventos para Sagrada Lanzada
REFRESH-INTERVAL;VALUE=DURATION:PT1H
X-Robots-Tag:noindex
X-PUBLISHED-TTL:PT1H
BEGIN:VTIMEZONE
TZID:UTC
BEGIN:STANDARD
TZOFFSETFROM:+0000
TZOFFSETTO:+0000
TZNAME:UTC
DTSTART:20250101T000000
END:STANDARD
END:VTIMEZONE
BEGIN:VEVENT
DTSTART;TZID=UTC:20260211T190000
DTEND;TZID=UTC:20260211T190000
DTSTAMP:20260423T114037
CREATED:20251202T103535Z
LAST-MODIFIED:20260116T082605Z
UID:8113-1770836400-1770836400@lanzada.org
SUMMARY:Exposición del Santísimo y Misa de Hermandad
DESCRIPTION:La Hermandad de la Sagrada Lanzada celebra a las 19.00 horas Exposición del Santísimo Sacramento  en la Iglesia de San Martín. Posteriormente\, misa de hermandad en la Iglesia de San Martín a las 20.00 horas.
URL:https://lanzada.org/evento/misa-de-hermandad-154/
LOCATION:Iglesia de San Martín\, Plaza de San Martín\, Sevilla\, Sevilla\, 41003\, España
CATEGORIES:Agenda,Misa de Miércoles
ATTACH;FMTTYPE=image/jpeg:https://lanzada.org/wp-content/uploads/2022/01/Santisimo.jpg
END:VEVENT
BEGIN:VEVENT
DTSTART;TZID=UTC:20260218T200000
DTEND;TZID=UTC:20260218T200000
DTSTAMP:20260423T114037
CREATED:20251202T103924Z
LAST-MODIFIED:20260116T084238Z
UID:8115-1771444800-1771444800@lanzada.org
SUMMARY:Miércoles de Ceniza
DESCRIPTION:A las 20.00 horas en la Iglesia de San Martín celebración de la Eucaristía con imposición de la ceniza.
URL:https://lanzada.org/evento/miercoles-de-ceniza-5/
LOCATION:Iglesia de San Martín\, Plaza de San Martín\, Sevilla\, Sevilla\, 41003\, España
CATEGORIES:Agenda,Misa de Miércoles
ATTACH;FMTTYPE=image/jpeg:https://lanzada.org/wp-content/uploads/2025/12/Buen-Fin-Hebrea-2025.jpg
END:VEVENT
END:VCALENDAR