BEGIN:VCALENDAR
VERSION:2.0
PRODID:-//Sagrada Lanzada - ECPv6.15.17.1//NONSGML v1.0//EN
CALSCALE:GREGORIAN
METHOD:PUBLISH
X-WR-CALNAME:Sagrada Lanzada
X-ORIGINAL-URL:https://lanzada.org
X-WR-CALDESC:Eventos para Sagrada Lanzada
REFRESH-INTERVAL;VALUE=DURATION:PT1H
X-Robots-Tag:noindex
X-PUBLISHED-TTL:PT1H
BEGIN:VTIMEZONE
TZID:UTC
BEGIN:STANDARD
TZOFFSETFROM:+0000
TZOFFSETTO:+0000
TZNAME:UTC
DTSTART:20250101T000000
END:STANDARD
END:VTIMEZONE
BEGIN:VEVENT
DTSTART;TZID=UTC:20260304T203000
DTEND;TZID=UTC:20260304T203000
DTSTAMP:20260420T085938
CREATED:20260120T091340Z
LAST-MODIFIED:20260302T144506Z
UID:8238-1772656200-1772656200@lanzada.org
SUMMARY:Exposición del Santísimo y Misa Hermandad
DESCRIPTION:La Hermandad de la Sagrada Lanzada celebra a las este miércoles la meditación de Cuaresma.Miércoles Eucarístico con Exposición del Santísimo Sacramento\, Liturgia de la Palabra y Meditación de Cuaresma. Comienzo a las 20\,30 horas
URL:https://lanzada.org/evento/exposicion-del-santisimo-y-misa-hermandad-2/
LOCATION:Iglesia de San Martín\, Plaza de San Martín\, Sevilla\, Sevilla\, 41003\, España
CATEGORIES:Misa de Miércoles
ATTACH;FMTTYPE=image/jpeg:https://lanzada.org/wp-content/uploads/2026/01/Miercoles-Eucaristico.jpeg
END:VEVENT
END:VCALENDAR